BEGIN:VCALENDAR
VERSION:2.0
PRODID:-//Northern Light Learning Center - ECPv6.15.15//NONSGML v1.0//EN
CALSCALE:GREGORIAN
METHOD:PUBLISH
X-WR-CALNAME:Northern Light Learning Center
X-ORIGINAL-URL:https://nllchs.org
X-WR-CALDESC:Events for Northern Light Learning Center
REFRESH-INTERVAL;VALUE=DURATION:PT1H
X-Robots-Tag:noindex
X-PUBLISHED-TTL:PT1H
BEGIN:VTIMEZONE
TZID:America/New_York
BEGIN:DAYLIGHT
TZOFFSETFROM:-0500
TZOFFSETTO:-0400
TZNAME:EDT
DTSTART:20240310T070000
END:DAYLIGHT
BEGIN:STANDARD
TZOFFSETFROM:-0400
TZOFFSETTO:-0500
TZNAME:EST
DTSTART:20241103T060000
END:STANDARD
BEGIN:DAYLIGHT
TZOFFSETFROM:-0500
TZOFFSETTO:-0400
TZNAME:EDT
DTSTART:20250309T070000
END:DAYLIGHT
BEGIN:STANDARD
TZOFFSETFROM:-0400
TZOFFSETTO:-0500
TZNAME:EST
DTSTART:20251102T060000
END:STANDARD
BEGIN:DAYLIGHT
TZOFFSETFROM:-0500
TZOFFSETTO:-0400
TZNAME:EDT
DTSTART:20260308T070000
END:DAYLIGHT
BEGIN:STANDARD
TZOFFSETFROM:-0400
TZOFFSETTO:-0500
TZNAME:EST
DTSTART:20261101T060000
END:STANDARD
END:VTIMEZONE
BEGIN:VEVENT
DTSTART;TZID=America/New_York:20250314T090000
DTEND;TZID=America/New_York:20250319T170000
DTSTAMP:20260424T075509
CREATED:20250228T123111Z
LAST-MODIFIED:20250228T123111Z
UID:4759-1741942800-1742403600@nllchs.org
SUMMARY:Spring 2025 Class Registration
DESCRIPTION:We will email the class registration link to current members on Friday\, March 14th at 9 am. The session will run 8 Fridays from March 21st to May 9th.
URL:https://nllchs.org/event/spring-2025-class-registration/
END:VEVENT
BEGIN:VEVENT
DTSTART;TZID=America/New_York:20250321T090000
DTEND;TZID=America/New_York:20250509T153000
DTSTAMP:20260424T075509
CREATED:20250228T123241Z
LAST-MODIFIED:20250228T125216Z
UID:4762-1742547600-1746804600@nllchs.org
SUMMARY:First Day of Spring Classes
DESCRIPTION:The first day of our eight week Spring Session! \nSpring Session 2025 will run eight Fridays\, from March 21st to May 9th!
URL:https://nllchs.org/event/first-day-of-spring-classes-2/
END:VEVENT
END:VCALENDAR