BEGIN:VCALENDAR
VERSION:2.0
PRODID:-//Northern Light Learning Center - ECPv6.15.15//NONSGML v1.0//EN
CALSCALE:GREGORIAN
METHOD:PUBLISH
X-WR-CALNAME:Northern Light Learning Center
X-ORIGINAL-URL:https://nllchs.org
X-WR-CALDESC:Events for Northern Light Learning Center
REFRESH-INTERVAL;VALUE=DURATION:PT1H
X-Robots-Tag:noindex
X-PUBLISHED-TTL:PT1H
BEGIN:VTIMEZONE
TZID:America/New_York
BEGIN:DAYLIGHT
TZOFFSETFROM:-0500
TZOFFSETTO:-0400
TZNAME:EDT
DTSTART:20240310T070000
END:DAYLIGHT
BEGIN:STANDARD
TZOFFSETFROM:-0400
TZOFFSETTO:-0500
TZNAME:EST
DTSTART:20241103T060000
END:STANDARD
BEGIN:DAYLIGHT
TZOFFSETFROM:-0500
TZOFFSETTO:-0400
TZNAME:EDT
DTSTART:20250309T070000
END:DAYLIGHT
BEGIN:STANDARD
TZOFFSETFROM:-0400
TZOFFSETTO:-0500
TZNAME:EST
DTSTART:20251102T060000
END:STANDARD
BEGIN:DAYLIGHT
TZOFFSETFROM:-0500
TZOFFSETTO:-0400
TZNAME:EDT
DTSTART:20260308T070000
END:DAYLIGHT
BEGIN:STANDARD
TZOFFSETFROM:-0400
TZOFFSETTO:-0500
TZNAME:EST
DTSTART:20261101T060000
END:STANDARD
END:VTIMEZONE
BEGIN:VEVENT
DTSTART;TZID=America/New_York:20250205T123000
DTEND;TZID=America/New_York:20250205T153000
DTSTAMP:20260424T093707
CREATED:20241217T114622Z
LAST-MODIFIED:20250103T130631Z
UID:4507-1738758600-1738769400@nllchs.org
SUMMARY:Cayuga Nature Center Reptiles
DESCRIPTION:Debra will be hosting a field trip at the Cayuga Nature Center on Wednesday\, February 5th from 12:30-3:30. \nWe will have an opening circle where we will share nature sightings\, followed by a 60-90 minute program with the nature educator about reptiles. The program will require listening to a lecture and will end with viewing of live animals. After the program there will be some playtime and a closing circle. \nAges 8 and up. Must be willing and able to sit and listen to lecture-style learning for 45 minutes plus. \nThere will be a fee but it will be determined after the number of people is finalized. Fee will be per family and shouldn’t be more than $20 and will be paid directly to field trip organizer and/or the center itself depending on payment method. Registration close by January 20th.
URL:https://nllchs.org/event/cayuga-nature-center-reptiles/
LOCATION:Cayuga Nature Center\, 1420 Taughannock Blvd.\, Ithaca\, NY\, 14850\, United States
CATEGORIES:Field Trips
END:VEVENT
BEGIN:VEVENT
DTSTART;TZID=America/New_York:20250215T170000
DTEND;TZID=America/New_York:20250215T200000
DTSTAMP:20260424T093707
CREATED:20250125T143551Z
LAST-MODIFIED:20250125T202202Z
UID:4715-1739638800-1739649600@nllchs.org
SUMMARY:NLLC Dance Party
DESCRIPTION:The NLLC Social Committee formally invites YOU to the NLLC Dance Party! The theme is Northern Lights; there will be decorations and refreshments related to this theme. Please see the attached flyer for details and register on the member portal\, registration is required. Please read the entire registration form for some important information regarding the dance logistics. \nNLLCdanceFlyer1
URL:https://nllchs.org/event/nllc-dance-party/
LOCATION:First Unitarian Society of Ithaca\, 306 N Aurora St.\, Ithaca\, NY\, 14850
END:VEVENT
END:VCALENDAR