BEGIN:VCALENDAR
VERSION:2.0
PRODID:-//Northern Light Learning Center - ECPv6.15.15//NONSGML v1.0//EN
CALSCALE:GREGORIAN
METHOD:PUBLISH
X-WR-CALNAME:Northern Light Learning Center
X-ORIGINAL-URL:https://nllchs.org
X-WR-CALDESC:Events for Northern Light Learning Center
REFRESH-INTERVAL;VALUE=DURATION:PT1H
X-Robots-Tag:noindex
X-PUBLISHED-TTL:PT1H
BEGIN:VTIMEZONE
TZID:America/New_York
BEGIN:DAYLIGHT
TZOFFSETFROM:-0500
TZOFFSETTO:-0400
TZNAME:EDT
DTSTART:20240310T070000
END:DAYLIGHT
BEGIN:STANDARD
TZOFFSETFROM:-0400
TZOFFSETTO:-0500
TZNAME:EST
DTSTART:20241103T060000
END:STANDARD
BEGIN:DAYLIGHT
TZOFFSETFROM:-0500
TZOFFSETTO:-0400
TZNAME:EDT
DTSTART:20250309T070000
END:DAYLIGHT
BEGIN:STANDARD
TZOFFSETFROM:-0400
TZOFFSETTO:-0500
TZNAME:EST
DTSTART:20251102T060000
END:STANDARD
BEGIN:DAYLIGHT
TZOFFSETFROM:-0500
TZOFFSETTO:-0400
TZNAME:EDT
DTSTART:20260308T070000
END:DAYLIGHT
BEGIN:STANDARD
TZOFFSETFROM:-0400
TZOFFSETTO:-0500
TZNAME:EST
DTSTART:20261101T060000
END:STANDARD
END:VTIMEZONE
BEGIN:VEVENT
DTSTART;VALUE=DATE:20250104
DTEND;VALUE=DATE:20250110
DTSTAMP:20260424T111539
CREATED:20241228T025915Z
LAST-MODIFIED:20250103T053215Z
UID:4531-1735948800-1736467199@nllchs.org
SUMMARY:Winter 2025 class registration
DESCRIPTION:We will email the class registration link to current members on Sat. Jan. 4th\, 2025\, at 9am! The session will run 8 Fridays\, from Jan. 10 to Feb. 28.
URL:https://nllchs.org/event/winter-2025-class-registration/
END:VEVENT
BEGIN:VEVENT
DTSTART;TZID=America/New_York:20250108T123000
DTEND;TZID=America/New_York:20250108T153000
DTSTAMP:20260424T111539
CREATED:20241217T114726Z
LAST-MODIFIED:20250103T130552Z
UID:4501-1736339400-1736350200@nllchs.org
SUMMARY:Cayuga Nature Center Skulls Program
DESCRIPTION:Debra will be hosting a field trip at the Cayuga Nature Center on Wednesday\, January 8th from 12:30-3:30. \nWe will have an opening circle where we share nature sightings\, then an hour long program with a nature educator exploring the center’s skull collection\, and then some playtime and a closing circle. \nAges 8 and up. Must be willing and able to sit and listen to lecture-style learning for 45 minutes plus. \nThere will be a fee but it will be determined after the number of people is finalized. Fee will be per family and shouldn’t be more than $20 and will be paid directly to field trip organizer and/or the center itself depending on payment method. Registration closes by January 4th.
URL:https://nllchs.org/event/cayuga-nature-center-skulls-program/
LOCATION:Cayuga Nature Center\, 1420 Taughannock Blvd.\, Ithaca\, NY\, 14850\, United States
CATEGORIES:Field Trips
END:VEVENT
BEGIN:VEVENT
DTSTART;TZID=America/New_York:20250122T110000
DTEND;TZID=America/New_York:20250122T110000
DTSTAMP:20260424T111539
CREATED:20250115T121604Z
LAST-MODIFIED:20250115T121808Z
UID:4696-1737543600-1737543600@nllchs.org
SUMMARY:Race Orchestral Strings Visit
DESCRIPTION:Come learn about stringed instruments from luthier Dylan Race! \nThis will mostly be a talk/Q&A\, shaped by the interests of the children who attend. Dylan can discuss the physics behind sound\, let us listen to instruments\, see ones half-built\, see old instruments and learn their history\, and more! \nThis trip is good for students with a curiosity to learn about stringed instruments. Students should have the ability to sit and listen\, as well as ask questions. All ages welcome.
URL:https://nllchs.org/event/race-orchestral-strings-visit/
LOCATION:Race Orchestral Strings\, 405 Taughannock Blvd\, Ithaca\, NY\, 14850\, United States
END:VEVENT
END:VCALENDAR