BEGIN:VCALENDAR
VERSION:2.0
PRODID:-//Northern Light Learning Center - ECPv6.15.15//NONSGML v1.0//EN
CALSCALE:GREGORIAN
METHOD:PUBLISH
X-WR-CALNAME:Northern Light Learning Center
X-ORIGINAL-URL:https://nllchs.org
X-WR-CALDESC:Events for Northern Light Learning Center
REFRESH-INTERVAL;VALUE=DURATION:PT1H
X-Robots-Tag:noindex
X-PUBLISHED-TTL:PT1H
BEGIN:VTIMEZONE
TZID:America/New_York
BEGIN:DAYLIGHT
TZOFFSETFROM:-0500
TZOFFSETTO:-0400
TZNAME:EDT
DTSTART:20230312T070000
END:DAYLIGHT
BEGIN:STANDARD
TZOFFSETFROM:-0400
TZOFFSETTO:-0500
TZNAME:EST
DTSTART:20231105T060000
END:STANDARD
BEGIN:DAYLIGHT
TZOFFSETFROM:-0500
TZOFFSETTO:-0400
TZNAME:EDT
DTSTART:20240310T070000
END:DAYLIGHT
BEGIN:STANDARD
TZOFFSETFROM:-0400
TZOFFSETTO:-0500
TZNAME:EST
DTSTART:20241103T060000
END:STANDARD
BEGIN:DAYLIGHT
TZOFFSETFROM:-0500
TZOFFSETTO:-0400
TZNAME:EDT
DTSTART:20250309T070000
END:DAYLIGHT
BEGIN:STANDARD
TZOFFSETFROM:-0400
TZOFFSETTO:-0500
TZNAME:EST
DTSTART:20251102T060000
END:STANDARD
END:VTIMEZONE
BEGIN:VEVENT
DTSTART;TZID=America/New_York:20241207T120000
DTEND;TZID=America/New_York:20241207T160000
DTSTAMP:20260424T123557
CREATED:20241125T153409Z
LAST-MODIFIED:20241125T153409Z
UID:4490-1733572800-1733587200@nllchs.org
SUMMARY:NLLC Holiday Market
DESCRIPTION:The NLLC Holiday Market will be held at Center Ithaca on the Commons on Saturday\, December 7th\, from 12-4pm. Come out to support our local homeschooling community and the children who have created amazing products to sell at the Holiday Market!
URL:https://nllchs.org/event/nllc-holiday-market/
LOCATION:Center Ithaca\, 171 E. State St.\, Ithaca\, NY\, 14850
CATEGORIES:Events
END:VEVENT
BEGIN:VEVENT
DTSTART;TZID=America/New_York:20241213T100000
DTEND;TZID=America/New_York:20241213T120000
DTSTAMP:20260424T123557
CREATED:20241110T012152Z
LAST-MODIFIED:20241110T012152Z
UID:4458-1734084000-1734091200@nllchs.org
SUMMARY:The Nutcracker
DESCRIPTION:Come see the Nutcracker with school groups and other homeschoolers 12/13 \nThe Nutcracker \nThe Ithaca Ballet is excited to offer a special performance of The Nutcracker\, for schools and groups again this year. In past years this has been a wonderful way for students to experience the wonder and magic of ballet and the tradition of the Nutcracker! This year’s special performance will be held on Friday\, December 13th from 10 AM to 12 noon at the State Theater in Ithaca\, New York. There is a $10 charge per ticket (students and adults) and a limited number of adult chaperones are admitted free of charge. \nIf your family is planning on attending The Nutcracker please email Amanda at soltoffak@gmail.com by Friday\, November 21. In your email to Amanda please include the number of people attending and their names as there will be no paper tickets issued and we will be using names to check people in on the day of the performance. This will greatly assist in planning as seating at The Nutcracker will be in groups. \nAmanda will be collecting RSVPs and payments and writing a single check to the ballet. Please be prepared to pay for your tickets. The deadline for payments is 12/1. Amanda can accept electronic payments (Venmo and Paypal) and cash. Your seats will not be reserved until she receives your full payment. \nThe NLLC Social Committee is also hosting a Ginger Bread House Decorating Party right after The Nutcracker. See the below information: \nGinger Bread House Decorating \nThis year\, right after The Nutcracker performance\, the NLLC Social Committee would like to add to the festivities by hosting a ginger bread house decorating party at St. Paul’s Methodist Church in Ithaca\, New York from 1 to 3 PM on Friday\, December 13th. We are just waiting on confirmation from St. Paul’s that their gym will be available for that day and time. \nCome decorate your own pre-assembled ginger bread house while sipping hot cocoa or tea\, nibbling on some refreshments\, and enjoy spending time with friends and family. \nThe Social Committee is asking for a $10 donation to help towards the cost of the ginger bread houses and please bring a decoration to share with the group. \nIf your family is planning on attending the Ginger Bread House Decorating Party go to this link and fill out the sign up form by Friday\, December 6th. This will greatly assist in planning how many houses we will need for the party. \nFeel free to forward this information to other area homeschoolers that we may not have been able to reach. We hope that you will be able to take advantage of these wonderful opportunities.
URL:https://nllchs.org/event/the-nutcracker/
LOCATION:State Theater\, 107 W State St.\, Ithaca\, NY\, 14850\, United States
END:VEVENT
BEGIN:VEVENT
DTSTART;TZID=America/New_York:20241213T130000
DTEND;TZID=America/New_York:20241213T150000
DTSTAMP:20260424T123557
CREATED:20241110T012654Z
LAST-MODIFIED:20241116T134228Z
UID:4461-1734094800-1734102000@nllchs.org
SUMMARY:NLLC Ginger Bread House Decorating Party
DESCRIPTION:Gingerbread House Decorating \nThis year\, right after The Nutcracker performance\, the NLLC Social Committee would like to add to the festivities by hosting a ginger bread house decorating party at St. Paul’s Methodist Church in Ithaca\, New York from 1 to 3 PM on Friday\, December 13th. We are just waiting on confirmation from St. Paul’s that their gym will be available for that day and time. \nCome decorate your own pre-assembled ginger bread house while sipping hot cocoa or tea\, nibbling on some refreshments\, and enjoy spending time with friends and family. \nThe Social Committee is asking for a $10 donation to help towards the cost of the gingerbread houses and please bring a decoration to share with the group. \nIf your family is planning on attending the Ginger Bread House Decorating Party please go to this form to sign up by Friday\, December 6th. This will greatly assist in planning how many houses we will need for the party. \nFeel free to forward this information to other area homeschoolers that we may not have been able to reach. We hope that you will be able to take advantage of these wonderful opportunities.
URL:https://nllchs.org/event/nllc-ginger-bread-house-decorating-party/
LOCATION:St. Paul’s United Methodist Church\, 402 North Aurora Street\, Ithaca\, New York\, 14850
END:VEVENT
END:VCALENDAR