BEGIN:VCALENDAR
VERSION:2.0
PRODID:-//Northern Light Learning Center - ECPv6.15.15//NONSGML v1.0//EN
CALSCALE:GREGORIAN
METHOD:PUBLISH
X-ORIGINAL-URL:https://nllchs.org
X-WR-CALDESC:Events for Northern Light Learning Center
REFRESH-INTERVAL;VALUE=DURATION:PT1H
X-Robots-Tag:noindex
X-PUBLISHED-TTL:PT1H
BEGIN:VTIMEZONE
TZID:America/New_York
BEGIN:DAYLIGHT
TZOFFSETFROM:-0500
TZOFFSETTO:-0400
TZNAME:EDT
DTSTART:20230312T070000
END:DAYLIGHT
BEGIN:STANDARD
TZOFFSETFROM:-0400
TZOFFSETTO:-0500
TZNAME:EST
DTSTART:20231105T060000
END:STANDARD
BEGIN:DAYLIGHT
TZOFFSETFROM:-0500
TZOFFSETTO:-0400
TZNAME:EDT
DTSTART:20240310T070000
END:DAYLIGHT
BEGIN:STANDARD
TZOFFSETFROM:-0400
TZOFFSETTO:-0500
TZNAME:EST
DTSTART:20241103T060000
END:STANDARD
BEGIN:DAYLIGHT
TZOFFSETFROM:-0500
TZOFFSETTO:-0400
TZNAME:EDT
DTSTART:20250309T070000
END:DAYLIGHT
BEGIN:STANDARD
TZOFFSETFROM:-0400
TZOFFSETTO:-0500
TZNAME:EST
DTSTART:20251102T060000
END:STANDARD
END:VTIMEZONE
BEGIN:VEVENT
DTSTART;TZID=America/New_York:20241002T100000
DTEND;TZID=America/New_York:20241002T140000
DTSTAMP:20260424T152511
CREATED:20240905T183017Z
LAST-MODIFIED:20240905T183017Z
UID:4181-1727863200-1727877600@nllchs.org
SUMMARY:Wednesdays at Children's Garden
DESCRIPTION:Hello Friends\,\n\n\nWe’ll be heading to the Children’s Garden tomorrow at 10 am and plan to be there regularly on Wednesdays until ice skating starts in November. We usually bring lunch and stay about 4 hours.\n\nHope to see some of you there!\n\nMarie\, Peter\, Mae\, Desmond\n\n\nCome play and visit at the Children’s Garden\nWednesdays from 10-2 (bring your lunch)\nMeet in the Anarchy Zone
URL:https://nllchs.org/event/wednesdays-at-childrens-garden-5/
LOCATION:Ithaca Children’s Garden\, 121 Turtle Lane\, Ithaca\, NY\, 14850\, United States
END:VEVENT
BEGIN:VEVENT
DTSTART;TZID=America/New_York:20241004T090000
DTEND;TZID=America/New_York:20241004T153000
DTSTAMP:20260424T152511
CREATED:20240815T044357Z
LAST-MODIFIED:20240815T044357Z
UID:4093-1728032400-1728055800@nllchs.org
SUMMARY:First Day of Fall Classes
DESCRIPTION:The first day of our eight-week Fall Session!
URL:https://nllchs.org/event/first-day-of-fall-classes/
LOCATION:St. Paul’s United Methodist Church\, 402 North Aurora Street\, Ithaca\, New York\, 14850
CATEGORIES:Classes
END:VEVENT
BEGIN:VEVENT
DTSTART;TZID=America/New_York:20241009T100000
DTEND;TZID=America/New_York:20241009T140000
DTSTAMP:20260424T152511
CREATED:20240905T183130Z
LAST-MODIFIED:20240905T183130Z
UID:4184-1728468000-1728482400@nllchs.org
SUMMARY:Wednesdays at Children's Garden
DESCRIPTION:Hello Friends\,\n\n\nWe’ll be heading to the Children’s Garden tomorrow at 10 am and plan to be there regularly on Wednesdays until ice skating starts in November. We usually bring lunch and stay about 4 hours.\n\nHope to see some of you there!\n\nMarie\, Peter\, Mae\, Desmond\n\n\nCome play and visit at the Children’s Garden\nWednesdays from 10-2 (bring your lunch)\nMeet in the Anarchy Zone
URL:https://nllchs.org/event/wednesdays-at-childrens-garden-6/
LOCATION:Ithaca Children’s Garden\, 121 Turtle Lane\, Ithaca\, NY\, 14850\, United States
END:VEVENT
BEGIN:VEVENT
DTSTART;TZID=America/New_York:20241027T170000
DTEND;TZID=America/New_York:20241027T210000
DTSTAMP:20260424T152511
CREATED:20241025T233652Z
LAST-MODIFIED:20241025T233948Z
UID:4436-1730048400-1730062800@nllchs.org
SUMMARY:NLLC Haunted High Tunnel
DESCRIPTION:Our second annual Haunted Hightunnel for homeschool families will be held Sunday\, Oct. 27 from 5-9pm at Blackduck Cidery\, 3046 County Road 138\, Ovid. This party is open to all homeschool families and friends. We do have a suggested $5 donation per family to help cover costs of supplies and treats. Party is rain or shine! Dress for the weather and wear waterproof shoes in the event of rain.\n\nThis year\, we have a costume contest with the following categories:\n\n\nBest Homemade Costume\nScariest Costume\nMost Original Costume\nCutest Costume\nGroup Costume\nCrowd Favorite\n\n\nOur Haunted Hightunnel Party Schedule –\n5-6pm Potluck – bring a dish to share + a table setting. We will have the fire lit this year by 5pm if you want to bring a grillable.\n6-7pm Dance Party/Costume Runway – strut your stuff and dance with friends.\n7pmish – Haunted orchard & hightunnel walk. Our walk will end in the dance area with creepy treats and costume awards announced.\nBonfire to follow – weather permitting.\n\nWhat to bring – a really awesome costume\, dish or drink to share\, a fun treat for the kids after the orchard walk. Feel free to bring any beverage your family enjoys.
URL:https://nllchs.org/event/nllc-haunted-high-tunnel/
LOCATION:Blackduck Cidery\, 3046 County Rd. 138\, Ovid\, NY\, United States
CATEGORIES:Events
END:VEVENT
END:VCALENDAR