BEGIN:VCALENDAR
VERSION:2.0
PRODID:-//Northern Light Learning Center - ECPv6.15.15//NONSGML v1.0//EN
CALSCALE:GREGORIAN
METHOD:PUBLISH
X-ORIGINAL-URL:https://nllchs.org
X-WR-CALDESC:Events for Northern Light Learning Center
REFRESH-INTERVAL;VALUE=DURATION:PT1H
X-Robots-Tag:noindex
X-PUBLISHED-TTL:PT1H
BEGIN:VTIMEZONE
TZID:America/New_York
BEGIN:DAYLIGHT
TZOFFSETFROM:-0500
TZOFFSETTO:-0400
TZNAME:EDT
DTSTART:20230312T070000
END:DAYLIGHT
BEGIN:STANDARD
TZOFFSETFROM:-0400
TZOFFSETTO:-0500
TZNAME:EST
DTSTART:20231105T060000
END:STANDARD
BEGIN:DAYLIGHT
TZOFFSETFROM:-0500
TZOFFSETTO:-0400
TZNAME:EDT
DTSTART:20240310T070000
END:DAYLIGHT
BEGIN:STANDARD
TZOFFSETFROM:-0400
TZOFFSETTO:-0500
TZNAME:EST
DTSTART:20241103T060000
END:STANDARD
BEGIN:DAYLIGHT
TZOFFSETFROM:-0500
TZOFFSETTO:-0400
TZNAME:EDT
DTSTART:20250309T070000
END:DAYLIGHT
BEGIN:STANDARD
TZOFFSETFROM:-0400
TZOFFSETTO:-0500
TZNAME:EST
DTSTART:20251102T060000
END:STANDARD
END:VTIMEZONE
BEGIN:VEVENT
DTSTART;TZID=America/New_York:20240815T100000
DTEND;TZID=America/New_York:20240815T140000
DTSTAMP:20260424T184256
CREATED:20240716T224927Z
LAST-MODIFIED:20240716T225034Z
UID:4003-1723716000-1723730400@nllchs.org
SUMMARY:Discover Cayuga Lake-Lake & Land Tour for ages 8+
DESCRIPTION:Join us for one of our summer cruises\, in support of a unique opportunity to engage our teenage Youth Guides as they train to be eco-tour guides. These cruises are our Lake & Land Tours and take place on Thursdays from 10-2. They include a one-hour\, narrated cruise from the Treman Marina up to Taughannock Park\, a guided waterfall hike\, a kayak or stand-up paddle\, or simply a hangout at Taughannock Park for ~ 1.5 hours\, and then another hour-long\, narrated cruise back to Treman\, with lunch and some interactive activities on board. The tours support training for our Youth Guides (some teens as young as 13 work with us!) as they learn important job skills related to environmental education\, conservation\, public speaking\, etc. and we want to make sure they have an audience to practice with. I feel like this could be really inspiring for some of our NLLC tweens and teens to see. \nOur Lake & Land Tours take place from July 11th – August 15th\, with a final ‘take-over’ of the cruise by our Youth Guides (on the 15th) after they’ve learned all the ropes. It’s amazing\, and fun\, to see them put it all into play! (And of course\, experienced\, senior crew are always on the boat supervising the overall guest experience.) These cruises were initially conceived for tourists but are proving to be a great training platform for our youth guides\, and we are now seeing them as a valuable way to offer low-cost opportunities to experience this great tour for community members too. \nThe cruises are normally $70/adult\, but we are in a position to offer them for free\, if necessary\, or at lesser costs. We can talk about what price point would work for our group. \nWhen: August 15\, 2024 from 10 am to 2 pm\nWhere: Meeting at the Treman Marina 15 to 20 min before departing\nWho: Hana Pandori is leading this field trip\nWhat: 4 hour cruise on Cauga Lake with hike/paddle board at Toughannock Park. Bring your own lunch\, hiking attire and water bottles\nHow: Sign into member portal and fill out “Discover Cayuga Lake-Lake & Land Tour for ages 8+”  form for each child. There is room for 15 children and 5 chaperones.
URL:https://nllchs.org/event/discover-cayuga-lake-lake-land-tour-for-ages-8/
LOCATION:Allan H. Treman Marina\, 805 Taughannock Blvd Allan H. Treman Marina State Park\, Ithaca\, NY\, 14850
END:VEVENT
BEGIN:VEVENT
DTSTART;TZID=America/New_York:20240826T090000
DTEND;TZID=America/New_York:20240829T150000
DTSTAMP:20260424T184256
CREATED:20240516T111638Z
LAST-MODIFIED:20240516T111638Z
UID:3856-1724662800-1724943600@nllchs.org
SUMMARY:2024 NLLC Summer Day Camp
DESCRIPTION:We are so excited to announce that NLLC will hold Summer Day Camp again this year at Camp Comstock Girl Scout Camp\, 1419 Taughannock Blvd. in Ithaca. This year’s camp  will be from 9 am to 3 pm Monday\, August 26th through Thursday\, August 29th and we plan to have several fun activities to do each day\, from nature hikes\, swimming\, art\, storytelling\, building projects and more. \nThere will also be a potluck party from 3 to 6 pm on Thursday\, August 29th. \nRegistration for 1 to 2 days of camp is $50 per family and registration for 3 to 4 days of camp $100 per family. We can offer this incredible week to you for such accessible pricing because we all work together to make it happen. Our cooperative model invites each participating family to lead an activity (or multiple activities) during the week\, and you will be directed to submit activity titles at registration.  Once the schedule is finalized\, you will have the opportunity to select the activities your child(ren) would like to participate in\, and at that time you will also be directed to select cleaning and other roles that help make the week possible. \nNLLC is NOT a drop-off program. Every child must have a parent or designated responsible adult on-site during our programs. \nTo register for NLLC Summer Day Camp go to the Member’s Portal and register.
URL:https://nllchs.org/event/2024-nllc-summer-day-camp/
LOCATION:Camp Comstock Girl Scout Camp\, 1419 Taughannock Blvd.\, Ithaca\, NY\, 14850
ORGANIZER;CN="Marie De Mott Grady and Gini Vidal":MAILTO:gini.vidal@gmail.com
END:VEVENT
BEGIN:VEVENT
DTSTART;TZID=America/New_York:20240828T150000
DTEND;TZID=America/New_York:20240830T130000
DTSTAMP:20260424T184256
CREATED:20240624T115336Z
LAST-MODIFIED:20240624T115336Z
UID:3970-1724857200-1725022800@nllchs.org
SUMMARY:Overnight Camping Trip
DESCRIPTION:NLLC is holding Summer Day Camp at Camp Comstock in Ithaca again this summer from August 26th to August 29th. I have organized a two night stay there as well during the same week from Wednesday\, Aug. 28th to Friday\, Aug. 30th. \nThe cabins are full but there are lean-tos and tent spots still available for reservation at Windjammer. Windjammer is located at the Southern end of Comstock near Crowbar Point. The sound of the waves lapping the shore will lull you to sleep in a rustic lean-to. Windjammer has 5 lean-tos each sleeping 3-4 people. There is also additional space to set up tents. Windjammer has a pavilion\, fire pit\, and an outdoor fireplace. \nTo register\, go to the member portal and click on NLLC Two Night Tent/Lean-to Stay at Camp Comstock Girl Scout Camp.  \n-Cost: Lean-to = $12 each or set up your own tent = $10\n-Check in is Wednesday\, Aug. 28th at 3 pm\n-Check out is Friday\, Aug. 30 at 1 pm \nCancelation policy: Cancelations made before June 26th are eligible for a 100% refund. Cancelations made before July 26th are eligible for a 50% refund. Cancelations after July 26th are not eligible for a refund.
URL:https://nllchs.org/event/overnight-camping-trip/
ORGANIZER;CN="Gini Vidal":MAILTO:gini.vidal@gmail.com
END:VEVENT
BEGIN:VEVENT
DTSTART;TZID=America/New_York:20240829T150000
DTEND;TZID=America/New_York:20240829T180000
DTSTAMP:20260424T184256
CREATED:20240808T131014Z
LAST-MODIFIED:20240815T050607Z
UID:4089-1724943600-1724954400@nllchs.org
SUMMARY:Potluck\, Fall Class Discussion\, & Annual Meeting/board election
DESCRIPTION:Join us for the monthly NLLC Potluck at Camp Comstock Girl Scout Camp! It is open to all\, anyone interested in learning more about Northern Light Learning Center\, members and friends and family! We look forward to celebrating the end of summer day camp with you all! \nFor this month’s potluck we are setting up a taco bar! Bring your favorite taco filling and toppings to share! NLLC will be providing a variety of taco shells to choose from. \nWe’ll also be holding our Annual Meeting\, discussing Fall session class ideas\, and electing new members to the board! \nCamp Comstock Girl Scout Camp is located across from the Cayuga Nature Center at 1419 Taughannock Blvd\, Ithaca\, NY 14850. Park at the top of the hill in the grassy field and walk down to the main lodge. There is a gaga ball pit and volleyball net.  Bring games or outdoor toys to share and enthusiasm for outdoor play. Don’t forget to bring your own plates\, flatware\, and water bottle. \nFriends and families are welcomed to join as well as new and prospective Northern Light-ers.
URL:https://nllchs.org/event/august-nllc-potluck/
LOCATION:Camp Comstock Girl Scout Camp\, 1419 Taughannock Blvd.\, Ithaca\, NY\, 14850
ORGANIZER;CN="NLLC Board":MAILTO:nllcboard at googlegroups.com
END:VEVENT
END:VCALENDAR