BEGIN:VCALENDAR
VERSION:2.0
PRODID:-//Northern Light Learning Center - ECPv6.15.15//NONSGML v1.0//EN
CALSCALE:GREGORIAN
METHOD:PUBLISH
X-ORIGINAL-URL:https://nllchs.org
X-WR-CALDESC:Events for Northern Light Learning Center
REFRESH-INTERVAL;VALUE=DURATION:PT1H
X-Robots-Tag:noindex
X-PUBLISHED-TTL:PT1H
BEGIN:VTIMEZONE
TZID:America/New_York
BEGIN:DAYLIGHT
TZOFFSETFROM:-0500
TZOFFSETTO:-0400
TZNAME:EDT
DTSTART:20230312T070000
END:DAYLIGHT
BEGIN:STANDARD
TZOFFSETFROM:-0400
TZOFFSETTO:-0500
TZNAME:EST
DTSTART:20231105T060000
END:STANDARD
BEGIN:DAYLIGHT
TZOFFSETFROM:-0500
TZOFFSETTO:-0400
TZNAME:EDT
DTSTART:20240310T070000
END:DAYLIGHT
BEGIN:STANDARD
TZOFFSETFROM:-0400
TZOFFSETTO:-0500
TZNAME:EST
DTSTART:20241103T060000
END:STANDARD
BEGIN:DAYLIGHT
TZOFFSETFROM:-0500
TZOFFSETTO:-0400
TZNAME:EDT
DTSTART:20250309T070000
END:DAYLIGHT
BEGIN:STANDARD
TZOFFSETFROM:-0400
TZOFFSETTO:-0500
TZNAME:EST
DTSTART:20251102T060000
END:STANDARD
END:VTIMEZONE
BEGIN:VTIMEZONE
TZID:UTC
BEGIN:STANDARD
TZOFFSETFROM:+0000
TZOFFSETTO:+0000
TZNAME:UTC
DTSTART:20230101T000000
END:STANDARD
END:VTIMEZONE
BEGIN:VEVENT
DTSTART;TZID=America/New_York:20240531T100000
DTEND;TZID=America/New_York:20240531T130000
DTSTAMP:20260423T162350
CREATED:20240525T124240Z
LAST-MODIFIED:20240525T124240Z
UID:3927-1717149600-1717160400@nllchs.org
SUMMARY:End of Year Potluck
DESCRIPTION:Come and celebrate the end of a wonderful year together at NLLC and the start of fun summer time adventures! \nThere is a playground adjacent and a basketball court just a short jaunt away.   Bring games or outdoor toys to share and enthusiasm for outdoor play. Prepare or pre-order a dish to pass (labeled with ingredients) and your own plates\, flatware\, and water bottle. There will be a grill and charcoal provided\, so you can bring something to grill as well. \nFriends and families are welcomed to join as well as new and prospective Norther Light-ers. \nThere will be a board meeting from 10-11.  A discussion about the Summer Day Camp will follow once the board meeting has concluded.  All are welcome. \n10am = Board meeting\n 11am – 1pm = Potluck/Get Together/Basketball\n 1pm and on = We can still stay and enjoy the park\, we just have to be out of the Pavilion so the next group can use it
URL:https://nllchs.org/event/end-of-year-potluck/
LOCATION:Stewart Park BBQ Pavilion\, 1 James L Gibbs Dr\, ithaca\, NY\, 14850\, United States
CATEGORIES:Board Meetings,Meet Ups
ORGANIZER;CN="NLLC Board":MAILTO:nllcboard at googlegroups.com
END:VEVENT
BEGIN:VEVENT
DTSTART;TZID=America/New_York:20240528T100000
DTEND;TZID=America/New_York:20240528T120000
DTSTAMP:20260423T162350
CREATED:20240401T222137Z
LAST-MODIFIED:20240401T222435Z
UID:3724-1716890400-1716897600@nllchs.org
SUMMARY:Come play and visit at the Children's Garden
DESCRIPTION:Come play and visit at the Children’s Garden\nTuesdays 10-12 (or longer if you bring your lunch and you feel like it)\nMeet in the Anarchy Zone\n\nWe plan to be there weekly until swimming season and would be delighted if you would join us!\n\nMarie\, Peter (6)\, Mae (4)
URL:https://nllchs.org/event/come-play-and-visit-at-the-childrens-garden-8/
LOCATION:NY
CATEGORIES:Meet Ups
END:VEVENT
BEGIN:VEVENT
DTSTART;TZID=America/New_York:20240524T100000
DTEND;TZID=America/New_York:20240524T120000
DTSTAMP:20260423T162350
CREATED:20240524T140038Z
LAST-MODIFIED:20240422T103512Z
UID:3462-1716544800-1716552000@nllchs.org
SUMMARY:Eastlake Recreation Center Ball Pit
DESCRIPTION:This ball pit meet-up is intended primarily for kids ages 7-10. Younger kids are also welcome\, but please be aware that the bigger kids can get wild in the ball pit and smaller children will need adults nearby to help keep them safe. Older kids are also welcome\, if they are interested. \nPlease sign up if you are planning to come. The fee is $10.33/kid to be paid at registration. \n 
URL:https://nllchs.org/event/eastlake-recreation-center-ball-pit/
LOCATION:Eastlake Recreation Center\, 18 Eastlake Rd\, Ithaca\, NY\, 14850\, United States
CATEGORIES:Field Trips
END:VEVENT
BEGIN:VEVENT
DTSTART;TZID=America/New_York:20240524T100000
DTEND;TZID=America/New_York:20240524T120000
DTSTAMP:20260423T162350
CREATED:20240422T105347Z
LAST-MODIFIED:20240422T105347Z
UID:3774-1716544800-1716552000@nllchs.org
SUMMARY:Eastlake Recreation Center Ball Pit
DESCRIPTION:This ball pit meet-up is intended primarily for kids ages 7-10. Younger kids are also welcome\, but please be aware that the bigger kids can get wild in the ball pit and smaller children will need adults nearby to help keep them safe. Older kids are also welcome\, if they are interested. \nPlease sign up if you are planning to come. The fee is $10.33/kid to be paid at registration. \n 
URL:https://nllchs.org/event/eastlake-recreation-center-ball-pit-2/
LOCATION:Eastlake Recreation Center\, 18 Eastlake Rd\, Ithaca\, NY\, 14850\, United States
CATEGORIES:Field Trips
END:VEVENT
BEGIN:VEVENT
DTSTART;TZID=America/New_York:20240521T100000
DTEND;TZID=America/New_York:20240521T120000
DTSTAMP:20260423T162350
CREATED:20240401T222109Z
LAST-MODIFIED:20240401T222418Z
UID:3722-1716285600-1716292800@nllchs.org
SUMMARY:Come play and visit at the Children's Garden
DESCRIPTION:Come play and visit at the Children’s Garden\nTuesdays 10-12 (or longer if you bring your lunch and you feel like it)\nMeet in the Anarchy Zone\n\nWe plan to be there weekly until swimming season and would be delighted if you would join us!\n\nMarie\, Peter (6)\, Mae (4)
URL:https://nllchs.org/event/come-play-and-visit-at-the-childrens-garden-7/
LOCATION:NY
CATEGORIES:Meet Ups
END:VEVENT
BEGIN:VEVENT
DTSTART;TZID=America/New_York:20240515T130000
DTEND;TZID=America/New_York:20240515T130000
DTSTAMP:20260423T162350
CREATED:20240313T190524Z
LAST-MODIFIED:20240313T191524Z
UID:3670-1715778000-1715778000@nllchs.org
SUMMARY:Hiking Club
DESCRIPTION:Spring is right around the corner\, let’s get out into nature! Each Wednesday at 1:00 our group will meet at a different trail and hike together. Singing\, snacks\, and general merriment are encouraged\, and all are welcome to participate! We’ll share exact meeting locations with the hiking club and any changes due to the weather. We hope you can join us!
URL:https://nllchs.org/event/hiking-club-9/
LOCATION:Cascadilla Gorge Trail to Collegetown
CATEGORIES:Classes
END:VEVENT
BEGIN:VEVENT
DTSTART;TZID=America/New_York:20240515T100000
DTEND;TZID=America/New_York:20240515T140000
DTSTAMP:20260423T162350
CREATED:20240312T191026Z
LAST-MODIFIED:20240312T191026Z
UID:3626-1715767200-1715781600@nllchs.org
SUMMARY:Montezuma Wildlife Refuge
DESCRIPTION:Come learn about Bald Eagles at the Montezuma Wildlife Refuge. Families will meet at the Visitor Center at 10am and volunteer Jackie Bakker will lead us on a guided hike to learn about the refuge. At 11am we will enjoy a Bald Eagle Presentation then lunch in the visitor center. Afterwards we will depart on a guided refuge tour in our cars while Jackie talks to us via Zoom on our phones. Our tour will end around 2pm. Families are welcome to further explore the area. \nAll ages are Welcome! There will be a hiking component the first hour\, followed by a presentation\, which students should be able to sit through. Parents Yes and siblings are encouraged to join .
URL:https://nllchs.org/event/montezuma-wildlife-refuge/
LOCATION:3395 Route 5/20 E\, Seneca Falls\, NY 13148\, 3395 Route 5/20 E\, Seneca Falls\, NY\, 13148\, United States
END:VEVENT
BEGIN:VEVENT
DTSTART;TZID=UTC:20240514T103000
DTEND;TZID=UTC:20240514T140000
DTSTAMP:20260423T162350
CREATED:20240307T024714Z
LAST-MODIFIED:20240307T024714Z
UID:3300-1715682600-1715695200@nllchs.org
SUMMARY:Hot Glue Guns + “Garbage” = Sculpture! (2 of 3)
DESCRIPTION:I have an impressive collection of inspiring objects that I’ve refused to throw away over the years. I can’t even tell you how long I’ve been imagining hosting this class for. Every time I looked at these pieces of “trash” I saw art\, and I saw an opportunity to reuse some of our culture’s massive amount of waste\, and I just couldn’t throw them away: so\, now I have boxes and boxes of\, let’s call them found objects\, waiting to become art supplies to help us manifest our creative visions! I can’t wait to see what sculptures we all will create (I encourage parents to create\, as well). \n I have some scissors\, hot glue guns\, and glue sticks\, and different kinds of tape\, to share but\, please\, if you are able\, bring your own art tool kit containing scissors and other cutting devices\, as well a hot glue gun\, and other kinds of adhesives\, such as glue and tape\, that you might like to use to create your sculptures. Ideally you would label things with your name. (And bring lunch.) \nWe will have a short opening circle at 10:30 to help us continue our community building with each other. This will be followed by crafting our sculptures on tables and rugs in and around the garage. We will have lunch at 12:00\, followed by time to free play\, and/or craft more\, before our time together comes to an end.
URL:https://nllchs.org/event/hot-glue-guns-garbage-sculpture-2-of-3/
LOCATION:4480 Critter Run Road\, 4480 Critter Run Road\, Trumansburg\, NY\, 14886\, United States
END:VEVENT
BEGIN:VEVENT
DTSTART;TZID=America/New_York:20240514T100000
DTEND;TZID=America/New_York:20240514T120000
DTSTAMP:20260423T162350
CREATED:20240401T222030Z
LAST-MODIFIED:20240401T222351Z
UID:3720-1715680800-1715688000@nllchs.org
SUMMARY:Come play and visit at the Children's Garden
DESCRIPTION:Come play and visit at the Children’s Garden\nTuesdays 10-12 (or longer if you bring your lunch and you feel like it)\nMeet in the Anarchy Zone\n\nWe plan to be there weekly until swimming season and would be delighted if you would join us!\n\nMarie\, Peter (6)\, Mae (4)
URL:https://nllchs.org/event/come-play-and-visit-at-the-childrens-garden-6/
LOCATION:NY
CATEGORIES:Meet Ups
END:VEVENT
BEGIN:VEVENT
DTSTART;TZID=America/New_York:20240511T120000
DTEND;TZID=America/New_York:20240511T150000
DTSTAMP:20260423T162350
CREATED:20240503T170041Z
LAST-MODIFIED:20240503T170041Z
UID:3825-1715428800-1715439600@nllchs.org
SUMMARY:Hike & Picnic Lunch At Chestnut Lean-To
DESCRIPTION:Johanna and Nora Brown are leading this field trip\, along with their kiddos. We’ll meet at 12pm in the trail parking lot at the southern end of Comfort Road Extension\, where it meets Bald Hill Road in Danby (Spencer zip code). There is a short walk along the road to reach the trail-head. The trail can be muddy in spots\, and includes a small creek ford as well as a good deal of roots and rocks. \nWe’ll hike to the Chestnut Lean-To on a stretch of the Finger Lakes Trail\, and enjoy a picnic lunch together and time to play and hang out in the woods. This is a fairly gentle\, half-mile hike in the Danby State Forest\, which takes about 20 minutes for hikers who like to blaze ahead\, and maybe more like 40 minutes with wee kiddos in tow. The area around the Lean-To is lovely and wooded\, with a nearby creek for splashing. \nWe’ve done this walk happily with kids of all ages\, from babies in carriers to walking toddlers to mighty tweens. There is unfortunately not a wheelchair accessible path to the lean-to. The trail may not work well for folks with mobility challenges. \nPlease pack a picnic lunch you can easily carry with you\, as well as any other supplies you need to safely enjoy your time in the woods like water\, hats\, bugspray\, sunscreen (the leaves won’t be fully out on the trees yet!) and comfortable shoes and clothes… maybe your tree or bird ID book? Binoculars? 🙂\nThere is an out-house at the lean-to. \nParking lot at the very end of Comfort Rd. Extension\, where it meets Bald Hill Rd. Danby\, but with a Spencer Zip Code\, NY 14883 United States
URL:https://nllchs.org/event/hike-picnic-lunch-at-chestnut-lean-to/
LOCATION:Parking lot at the very end of Comfort Rd. Extension\, where it meets Bald Hill Rd. Danby\, but with a Spencer Zip Code\, NY 14883 United States\, NY\, United States
END:VEVENT
BEGIN:VEVENT
DTSTART;TZID=America/New_York:20240508T130000
DTEND;TZID=America/New_York:20240508T140000
DTSTAMP:20260423T162350
CREATED:20240313T190441Z
LAST-MODIFIED:20240508T094620Z
UID:3667-1715173200-1715176800@nllchs.org
SUMMARY:Hiking Club
DESCRIPTION:Spring is right around the corner\, let’s get out into nature! Each Wednesday at 1:00 our group will meet at a different trail and hike together. Singing\, snacks\, and general merriment are encouraged\, and all are welcome to participate! We’ll share exact meeting locations with the hiking club and any changes due to the weather. We hope you can join us!
URL:https://nllchs.org/event/hiking-club-8/
LOCATION:Ellis Hollow Nature Preserve\, 313 Ellis Hollow Creek Rd. #183\, Ithaca\, NY\, 14850
CATEGORIES:Classes
END:VEVENT
BEGIN:VEVENT
DTSTART;TZID=America/New_York:20240507T100000
DTEND;TZID=America/New_York:20240507T120000
DTSTAMP:20260423T162350
CREATED:20240401T221944Z
LAST-MODIFIED:20240401T222333Z
UID:3718-1715076000-1715083200@nllchs.org
SUMMARY:Come play and visit at the Children's Garden
DESCRIPTION:Come play and visit at the Children’s Garden\nTuesdays 10-12 (or longer if you bring your lunch and you feel like it)\nMeet in the Anarchy Zone\n\nWe plan to be there weekly until swimming season and would be delighted if you would join us!\n\nMarie\, Peter (6)\, Mae (4)
URL:https://nllchs.org/event/come-play-and-visit-at-the-childrens-garden-5/
LOCATION:NY
CATEGORIES:Meet Ups
END:VEVENT
BEGIN:VEVENT
DTSTART;TZID=America/New_York:20240501T130000
DTEND;TZID=America/New_York:20240501T130000
DTSTAMP:20260423T162350
CREATED:20240313T190331Z
LAST-MODIFIED:20240313T191348Z
UID:3664-1714568400-1714568400@nllchs.org
SUMMARY:Hiking Club
DESCRIPTION:Spring is right around the corner\, let’s get out into nature! Each Wednesday at 1:00 our group will meet at a different trail and hike together. Singing\, snacks\, and general merriment are encouraged\, and all are welcome to participate! We’ll share exact meeting locations with the hiking club and any changes due to the weather. We hope you can join us!
URL:https://nllchs.org/event/hiking-club-7/
LOCATION:Cornell Arboretum
CATEGORIES:Classes
END:VEVENT
BEGIN:VEVENT
DTSTART;TZID=America/New_York:20240424T130000
DTEND;TZID=America/New_York:20240424T130000
DTSTAMP:20260423T162350
CREATED:20240313T190114Z
LAST-MODIFIED:20240313T191319Z
UID:3661-1713963600-1713963600@nllchs.org
SUMMARY:Hiking Club
DESCRIPTION:Spring is right around the corner\, let’s get out into nature! Each Wednesday at 1:00 our group will meet at a different trail and hike together. Singing\, snacks\, and general merriment are encouraged\, and all are welcome to participate! We’ll share exact meeting locations with the hiking club and any changes due to the weather. We hope you can join us!
URL:https://nllchs.org/event/hiking-club-6/
LOCATION:Hike at Flat Rocks
CATEGORIES:Classes
END:VEVENT
BEGIN:VEVENT
DTSTART;TZID=America/New_York:20240423T100000
DTEND;TZID=America/New_York:20240423T120000
DTSTAMP:20260423T162350
CREATED:20240401T221842Z
LAST-MODIFIED:20240401T222314Z
UID:3716-1713866400-1713873600@nllchs.org
SUMMARY:Come play and visit at the Children's Garden
DESCRIPTION:Come play and visit at the Children’s Garden\nTuesdays 10-12 (or longer if you bring your lunch and you feel like it)\nMeet in the Anarchy Zone\n\nWe plan to be there weekly until swimming season and would be delighted if you would join us!\n\nMarie\, Peter (6)\, Mae (4)
URL:https://nllchs.org/event/come-play-and-visit-at-the-childrens-garden-4/
LOCATION:NY
CATEGORIES:Meet Ups
END:VEVENT
BEGIN:VEVENT
DTSTART;TZID=UTC:20240416T103000
DTEND;TZID=UTC:20240416T140000
DTSTAMP:20260423T162350
CREATED:20240306T195249Z
LAST-MODIFIED:20240306T195403Z
UID:3296-1713263400-1713276000@nllchs.org
SUMMARY:Hot Glue Guns + “Garbage” = Sculpture! (1 of 3)
DESCRIPTION:I have an impressive collection of inspiring objects that I’ve refused to throw away over the years. I can’t even tell you how long I’ve been imagining hosting this class for. Every time I looked at these pieces of “trash” I saw art\, and I saw an opportunity to reuse some of our culture’s massive amount of waste\, and I just couldn’t throw them away: so\, now I have boxes and boxes of\, let’s call them found objects\, waiting to become art supplies to help us manifest our creative visions! I can’t wait to see what sculptures we all will create (I encourage parents to create\, as well). \n I have some scissors\, hot glue guns\, and glue sticks\, and different kinds of tape\, to share but\, please\, if you are able\, bring your own art tool kit containing scissors and other cutting devices\, as well a hot glue gun\, and other kinds of adhesives\, such as glue and tape\, that you might like to use to create your sculptures. Ideally you would label things with your name. (And bring lunch.) \nWe will have a short opening circle at 10:30 to help us continue our community building with each other. This will be followed by crafting our sculptures on tables and rugs in and around the garage. We will have lunch at 12:00\, followed by time to free play\, and/or craft more\, before our time together comes to an end.
URL:https://nllchs.org/event/hot-glue-guns-garbage-sculpture-1-of-3/
LOCATION:4480 Critter Run Road\, 4480 Critter Run Road\, Trumansburg\, NY\, 14886\, United States
CATEGORIES:Meet Ups
END:VEVENT
BEGIN:VEVENT
DTSTART;TZID=America/New_York:20240416T100000
DTEND;TZID=America/New_York:20240416T120000
DTSTAMP:20260423T162350
CREATED:20240401T221459Z
LAST-MODIFIED:20240401T222256Z
UID:3712-1713261600-1713268800@nllchs.org
SUMMARY:Come play and visit at the Children's Garden
DESCRIPTION:Come play and visit at the Children’s Garden\nTuesdays 10-12 (or longer if you bring your lunch and you feel like it)\nMeet in the Anarchy Zone\n\nWe plan to be there weekly until swimming season and would be delighted if you would join us!\n\nMarie\, Peter (6)\, Mae (4)
URL:https://nllchs.org/event/come-play-and-visit-at-the-childrens-garden-3/
LOCATION:NY
CATEGORIES:Meet Ups
END:VEVENT
BEGIN:VEVENT
DTSTART;TZID=America/New_York:20240410T130000
DTEND;TZID=America/New_York:20240410T130000
DTSTAMP:20260423T162350
CREATED:20240313T185828Z
LAST-MODIFIED:20240313T191219Z
UID:3653-1712754000-1712754000@nllchs.org
SUMMARY:Hiking Club
DESCRIPTION:Spring is right around the corner\, let’s get out into nature! Each Wednesday at 1:00 our group will meet at a different trail and hike together. Singing\, snacks\, and general merriment are encouraged\, and all are welcome to participate! We’ll share exact meeting locations with the hiking club and any changes due to the weather. We hope you can join us!
URL:https://nllchs.org/event/hiking-club-4/
LOCATION:Mulholland Wildflower Preserve\, 501-03 Giles St\, Ithaca\, NY\, 14850
CATEGORIES:Classes
END:VEVENT
BEGIN:VEVENT
DTSTART;TZID=America/New_York:20240409T100000
DTEND;TZID=America/New_York:20240409T120000
DTSTAMP:20260423T162350
CREATED:20240401T221317Z
LAST-MODIFIED:20240401T222238Z
UID:3710-1712656800-1712664000@nllchs.org
SUMMARY:Come play and visit at the Children's Garden
DESCRIPTION:Come play and visit at the Children’s Garden\nTuesdays 10-12 (or longer if you bring your lunch and you feel like it)\nMeet in the Anarchy Zone\n\nWe plan to be there weekly until swimming season and would be delighted if you would join us!\n\nMarie\, Peter (6)\, Mae (4)
URL:https://nllchs.org/event/come-play-and-visit-at-the-childrens-garden-2/
LOCATION:NY
CATEGORIES:Meet Ups
END:VEVENT
BEGIN:VEVENT
DTSTART;TZID=UTC:20240404T133000
DTEND;TZID=UTC:20240404T150000
DTSTAMP:20260423T162350
CREATED:20240307T025638Z
LAST-MODIFIED:20240307T025638Z
UID:3304-1712237400-1712242800@nllchs.org
SUMMARY:Space and Planetary Imaging Facility up at Cornell
DESCRIPTION:Get ready for the April 8th total solar eclipse! What causes eclipses? Why are they so rare? Why are lunar eclipses more common than solar ones? Do other planets have eclipses? Find out the answers to some common questions like these\, plus tips on viewing eclipses and the Sun safely\, and then dive even deeper into how these phenomena help us explore the galaxy and understand our place in the universe. \nThis field trip will be for ages 8-11.
URL:https://nllchs.org/event/space-and-planetary-imaging-facility-up-at-cornell/
LOCATION:Spacecraft Planetary Image Facility (SPIF)\, 122 Sciences Dr\, Ithaca\, NY\, 14850\, United States
END:VEVENT
BEGIN:VEVENT
DTSTART;TZID=America/New_York:20240403T130000
DTEND;TZID=America/New_York:20240403T130000
DTSTAMP:20260423T162350
CREATED:20240313T181100Z
LAST-MODIFIED:20240313T191001Z
UID:3642-1712149200-1712149200@nllchs.org
SUMMARY:Hiking Club
DESCRIPTION:Spring is right around the corner\, let’s get out into nature! Each Wednesday at 1:00 our group will meet at a different trail and hike together. Singing\, snacks\, and general merriment are encouraged\, and all are welcome to participate! We’ll share exact meeting locations with the hiking club and any changes due to the weather. We hope you can join us! \n 
URL:https://nllchs.org/event/hiking-club/
LOCATION:Taughannock Falls\, 1740 Taughannock Blvd\, Trumansburg\, NY\, 14886
CATEGORIES:Classes
END:VEVENT
BEGIN:VEVENT
DTSTART;TZID=America/New_York:20240402T100000
DTEND;TZID=America/New_York:20240402T120000
DTSTAMP:20260423T162350
CREATED:20240401T175354Z
LAST-MODIFIED:20240401T180114Z
UID:3686-1712052000-1712059200@nllchs.org
SUMMARY:Come play and visit at the Children's Garden
DESCRIPTION:Come play and visit at the Children’s Garden\nTuesdays 10-12 (or longer if you bring your lunch and you feel like it)\nMeet in the Anarchy Zone\n\nWe plan to be there weekly until swimming season and would be delighted if you would join us!\n\nMarie\, Peter (6)\, Mae (4)
URL:https://nllchs.org/event/come-play-and-visit-at-the-childrens-garden/
LOCATION:Ithaca Children’s Garden\, 121 Turtle Lane\, Ithaca\, NY\, 14850\, United States
CATEGORIES:Meet Ups
END:VEVENT
BEGIN:VEVENT
DTSTART;TZID=UTC:20240329T090000
DTEND;TZID=UTC:20240329T160000
DTSTAMP:20260423T162350
CREATED:20240120T213436Z
LAST-MODIFIED:20240815T044135Z
UID:1610-1711702800-1711728000@nllchs.org
SUMMARY:First Day of Spring Classes
DESCRIPTION:Welcome Back to our weekly Meets! \nOur first day of our eight week Spring Session.
URL:https://nllchs.org/event/first-day-of-spring-classes/
LOCATION:St. Paul’s United Methodist Church\, 402 North Aurora Street\, Ithaca\, New York\, 14850
CATEGORIES:Classes
END:VEVENT
BEGIN:VEVENT
DTSTART;TZID=America/New_York:20240322T100000
DTEND;TZID=America/New_York:20240322T113000
DTSTAMP:20260423T162350
CREATED:20240307T211504Z
LAST-MODIFIED:20240307T212333Z
UID:3472-1711101600-1711107000@nllchs.org
SUMMARY:Spacecraft Planetary Image Facility at Cornell
DESCRIPTION:Cool Stuff Related to the Solar System led in coordination with Zoe P. \nActivities will include: making or playing with a homemade comet\, gravity bottles\, moon soil\, a map of the solar system\, a VR headset with a Mars scene (like standing on Mars)\, and a magic planet. It will be very tactile and multi-sensory. \nSPIF is an active research and public facility that assists students and planetary scientists in their work\, provides logistical support to NASA missions\, and offers outreach services and Pre-K educational support throughout the Central New York region and beyond. Its mission is to ensure planetaryimages\, data\, and discoveries from NASA missions are accessible to everyone. You can learn more here: https://cornellspif.com \nIdeal Participants 7-9 year olds.
URL:https://nllchs.org/event/spacecraft-planetary-image-facility-at-cornell/
LOCATION:Spacecraft Planetary Image Facility (SPIF)\, 122 Sciences Dr\, Ithaca\, NY\, 14850\, United States
CATEGORIES:Field Trips
END:VEVENT
BEGIN:VEVENT
DTSTART;TZID=UTC:20240308T130000
DTEND;TZID=UTC:20240308T150000
DTSTAMP:20260423T162350
CREATED:20240120T203409Z
LAST-MODIFIED:20240131T200820Z
UID:1584-1709902800-1709910000@nllchs.org
SUMMARY:Sky Zone Field Trip
DESCRIPTION:Let’s take another trip to Sky Zone Trampoline Park in Syracuse\, NY.  \nWe’ve had such a great time when we’ve gone in past years! The place is a blast with their jumping trampolines\, ninja warrior course\, basketball\, jumping into foam pits\, swinging from aerial silk fabrics\, etc. All the info about their activities is on their website. You’ll need to fill out a waiver for each jumper\, which you can do upon arrival or beforehand on their website. This is a flexible field trip and you can arrive or leave at a time that’s best for your family. \nAlso\, since we don’t need to make any advance reservations or payments\, it gives us flexibility if we need to reschedule for inclement weather or no worries if you can’t make it at the last minute. We hope you’ll join us for another special field trip to Sky Zone! \nTo get a sense of the place\, you can watch this video clip I put together of our trip there a few years ago. https://www.dropbox.com/s/xripwvrhaeczx0b/finalVideo%282023-03-06_13-45-49%29.mov?dl=0 \nFees: All fees will be paid to Sky Zone upon arrival. \nEach person jumping needs to wear special Sky Zone grip socks which cost $4. \nThe price per jumper for access to all of the activities is $8 for 1 hour and $15 for 2 hours. The family price (up to 4 jumpers) is $30 for 1 hour and $50 for 2 hours. These are special homeschool rates. \n**I recommend signing up for 1 hour and then just extending the time if needed since in the past\, Sky Zone has sometimes let us jump for longer\, at no extra cost:)
URL:https://nllchs.org/event/sky-zone-field-trip/
LOCATION:NY
CATEGORIES:Field Trips
END:VEVENT
BEGIN:VEVENT
DTSTART;TZID=UTC:20240207T100000
DTEND;TZID=UTC:20240207T123000
DTSTAMP:20260423T162350
CREATED:20240120T200801Z
LAST-MODIFIED:20240131T200911Z
UID:1579-1707300000-1707309000@nllchs.org
SUMMARY:Museum of the Earth Field Trip
DESCRIPTION:There will be a 60-minute experience from 10:00-11:00 led by the museums educator\, which will include exploration in the fossil lab\, sorting fossils and rocks\, interacting with items from the Education Collection\, and talking together about on of the museum’s exhibits. \nAfter that there will be 90-minutes to explore the museum on our own\, as the museum will be closed to the public\, with activity sheets (and a space to have lunch if need be before leaving). \nIdeal students have an interest in geology and an ability to focus on the task at hand\, suggested ages 7-11.
URL:https://nllchs.org/event/museum-of-the-earth-field-trip/
LOCATION:Museum of the Earth Field Trip\, 1259 Trumansburg Rd.\, Ithaca\, NY\, 14850\, United States
CATEGORIES:Field Trips
END:VEVENT
END:VCALENDAR