BEGIN:VCALENDAR
VERSION:2.0
PRODID:-//Northern Light Learning Center - ECPv6.15.15//NONSGML v1.0//EN
CALSCALE:GREGORIAN
METHOD:PUBLISH
X-WR-CALNAME:Northern Light Learning Center
X-ORIGINAL-URL:https://nllchs.org
X-WR-CALDESC:Events for Northern Light Learning Center
REFRESH-INTERVAL;VALUE=DURATION:PT1H
X-Robots-Tag:noindex
X-PUBLISHED-TTL:PT1H
BEGIN:VTIMEZONE
TZID:UTC
BEGIN:STANDARD
TZOFFSETFROM:+0000
TZOFFSETTO:+0000
TZNAME:UTC
DTSTART:20230101T000000
END:STANDARD
END:VTIMEZONE
BEGIN:VEVENT
DTSTART;TZID=UTC:20240207T100000
DTEND;TZID=UTC:20240207T123000
DTSTAMP:20260424T075012
CREATED:20240120T200801Z
LAST-MODIFIED:20240131T200911Z
UID:1579-1707300000-1707309000@nllchs.org
SUMMARY:Museum of the Earth Field Trip
DESCRIPTION:There will be a 60-minute experience from 10:00-11:00 led by the museums educator\, which will include exploration in the fossil lab\, sorting fossils and rocks\, interacting with items from the Education Collection\, and talking together about on of the museum’s exhibits. \nAfter that there will be 90-minutes to explore the museum on our own\, as the museum will be closed to the public\, with activity sheets (and a space to have lunch if need be before leaving). \nIdeal students have an interest in geology and an ability to focus on the task at hand\, suggested ages 7-11.
URL:https://nllchs.org/event/museum-of-the-earth-field-trip/
LOCATION:Museum of the Earth Field Trip\, 1259 Trumansburg Rd.\, Ithaca\, NY\, 14850\, United States
CATEGORIES:Field Trips
END:VEVENT
END:VCALENDAR