BEGIN:VCALENDAR
VERSION:2.0
PRODID:-//Northern Light Learning Center - ECPv6.15.15//NONSGML v1.0//EN
CALSCALE:GREGORIAN
METHOD:PUBLISH
X-WR-CALNAME:Northern Light Learning Center
X-ORIGINAL-URL:https://nllchs.org
X-WR-CALDESC:Events for Northern Light Learning Center
REFRESH-INTERVAL;VALUE=DURATION:PT1H
X-Robots-Tag:noindex
X-PUBLISHED-TTL:PT1H
BEGIN:VTIMEZONE
TZID:America/New_York
BEGIN:DAYLIGHT
TZOFFSETFROM:-0500
TZOFFSETTO:-0400
TZNAME:EDT
DTSTART:20240310T070000
END:DAYLIGHT
BEGIN:STANDARD
TZOFFSETFROM:-0400
TZOFFSETTO:-0500
TZNAME:EST
DTSTART:20241103T060000
END:STANDARD
BEGIN:DAYLIGHT
TZOFFSETFROM:-0500
TZOFFSETTO:-0400
TZNAME:EDT
DTSTART:20250309T070000
END:DAYLIGHT
BEGIN:STANDARD
TZOFFSETFROM:-0400
TZOFFSETTO:-0500
TZNAME:EST
DTSTART:20251102T060000
END:STANDARD
BEGIN:DAYLIGHT
TZOFFSETFROM:-0500
TZOFFSETTO:-0400
TZNAME:EDT
DTSTART:20260308T070000
END:DAYLIGHT
BEGIN:STANDARD
TZOFFSETFROM:-0400
TZOFFSETTO:-0500
TZNAME:EST
DTSTART:20261101T060000
END:STANDARD
BEGIN:DAYLIGHT
TZOFFSETFROM:-0500
TZOFFSETTO:-0400
TZNAME:EDT
DTSTART:20270314T070000
END:DAYLIGHT
BEGIN:STANDARD
TZOFFSETFROM:-0400
TZOFFSETTO:-0500
TZNAME:EST
DTSTART:20271107T060000
END:STANDARD
END:VTIMEZONE
BEGIN:VEVENT
DTSTART;TZID=America/New_York:20260327T110000
DTEND;TZID=America/New_York:20260327T123000
DTSTAMP:20260423T171733
CREATED:20260312T181519Z
LAST-MODIFIED:20260312T181519Z
UID:5613-1774609200-1774614600@nllchs.org
SUMMARY:Skyzone Trip
DESCRIPTION:
URL:https://nllchs.org/event/skyzone-trip/
ATTACH;FMTTYPE=image/png:https://nllchs.org/wp-content/uploads/2026/03/Skyzone2.png
END:VEVENT
BEGIN:VEVENT
DTSTART;TZID=America/New_York:20260325T100000
DTEND;TZID=America/New_York:20260325T140000
DTSTAMP:20260423T171733
CREATED:20260220T154620Z
LAST-MODIFIED:20260220T154620Z
UID:5515-1774432800-1774447200@nllchs.org
SUMMARY:MOST: Milton J. Rubentsein Museum of Science and Technology
DESCRIPTION:Come explore the Museum of Science and Technology in Syracuse! \n\n\nThis interactive museum has things to engage all ages. \n\nBYO lunch/snacks/water bottles – they have tables where we can eat. $5 per person (children and adults)\, to be paid at the museum. They will be opening the museum especially for us\, so if you sign up but then realize you can’t make it\, please let me know\,
URL:https://nllchs.org/event/most-milton-j-rubentsein-museum-of-science-and-technology/
LOCATION:MOST: Milton J. Rubentsein Museum of Science and Technology\, 500 S. Franklin St\, Syracuse\, NY\, 13202\, United States
CATEGORIES:Field Trips
END:VEVENT
BEGIN:VEVENT
DTSTART;TZID=America/New_York:20260313T103000
DTEND;TZID=America/New_York:20260313T143000
DTSTAMP:20260423T171733
CREATED:20260306T165801Z
LAST-MODIFIED:20260306T165801Z
UID:5600-1773397800-1773412200@nllchs.org
SUMMARY:Culmination Day
DESCRIPTION:
URL:https://nllchs.org/event/culmination-day/
LOCATION:St. Paul’s United Methodist Church\, 402 North Aurora Street\, Ithaca\, New York\, 14850
ATTACH;FMTTYPE=image/png:https://nllchs.org/wp-content/uploads/2026/03/CulminationDay.png
END:VEVENT
BEGIN:VEVENT
DTSTART;TZID=America/New_York:20260227T123000
DTEND;TZID=America/New_York:20260227T133000
DTSTAMP:20260423T171733
CREATED:20250919T131043Z
LAST-MODIFIED:20250919T131043Z
UID:5184-1772195400-1772199000@nllchs.org
SUMMARY:Board Meeting
DESCRIPTION:The NLLC Board will meet to discuss agenda items.  Members are welcome to join.
URL:https://nllchs.org/event/board-meeting-6/
LOCATION:St. Pauls\, 402 N Aurora St\,\, ithaca\, NY\, 14850\, United States
CATEGORIES:Board Meetings
END:VEVENT
BEGIN:VEVENT
DTSTART;TZID=America/New_York:20260213T133000
DTEND;TZID=America/New_York:20260213T143000
DTSTAMP:20260423T171733
CREATED:20260123T164816Z
LAST-MODIFIED:20260123T164816Z
UID:5490-1770989400-1770993000@nllchs.org
SUMMARY:Programming Committee: Brainstroming Classes
DESCRIPTION:Join us to share what classes you are planning on leading in the spring.  Share what you are hoping to see and what you need someone else to lead. \nThis tends to be a fun and interactive gathering! The more the merrier!
URL:https://nllchs.org/event/programming-committee-brainstroming-classes/
LOCATION:Durham Library
ORGANIZER;CN="Elena McC":MAILTO:oxideproductions@gmail.com
END:VEVENT
BEGIN:VEVENT
DTSTART;TZID=America/New_York:20260207T170000
DTEND;TZID=America/New_York:20260207T200000
DTSTAMP:20260423T171733
CREATED:20260119T144050Z
LAST-MODIFIED:20260121T002235Z
UID:5471-1770483600-1770494400@nllchs.org
SUMMARY:Valentine's Day Dance Party
DESCRIPTION:Please register here: https://nllc.wufoo.com/forms/z1jv8bcz16s9lav/
URL:https://nllchs.org/event/valentines-day-dance-party/
LOCATION:First Unitarian Society of Ithaca\, 306 N Aurora St.\, Ithaca\, NY\, 14850
ATTACH;FMTTYPE=image/png:https://nllchs.org/wp-content/uploads/2026/01/nllc-dance.png
END:VEVENT
BEGIN:VEVENT
DTSTART;TZID=America/New_York:20260206T133000
DTEND;TZID=America/New_York:20260206T143000
DTSTAMP:20260423T171733
CREATED:20260123T164311Z
LAST-MODIFIED:20260123T164311Z
UID:5488-1770384600-1770388200@nllchs.org
SUMMARY:Programming Committee: Kid Count Tabulating
DESCRIPTION:Help sift through and understand all information collected from the Kid Count.  This is what is shared during the class brainstorming sessions that will start next week.
URL:https://nllchs.org/event/programming-committee-kid-count-tabulating/
LOCATION:Durham Library
ORGANIZER;CN="Elena McC":MAILTO:oxideproductions@gmail.com
END:VEVENT
BEGIN:VEVENT
DTSTART;TZID=America/New_York:20260130T133000
DTEND;TZID=America/New_York:20260130T143000
DTSTAMP:20260423T171733
CREATED:20260123T163956Z
LAST-MODIFIED:20260123T164013Z
UID:5483-1769779800-1769783400@nllchs.org
SUMMARY:Programming Committee: Kid Count
DESCRIPTION:Help update and send out the Kid Count Survey for the Spring Session. \nWe will likely be looking through the results of the Class & Registration Survey. \nMember input is greatly valued\, help ask the right questions! And get a sneak peek at the information collected!
URL:https://nllchs.org/event/programming-committee-kid-count/
LOCATION:Durham Library
ORGANIZER;CN="Elena McC":MAILTO:oxideproductions@gmail.com
END:VEVENT
BEGIN:VEVENT
DTSTART;TZID=America/New_York:20260130T130000
DTEND;TZID=America/New_York:20260130T140000
DTSTAMP:20260423T171733
CREATED:20260123T185521Z
LAST-MODIFIED:20260123T185521Z
UID:5499-1769778000-1769781600@nllchs.org
SUMMARY:Financial Committee
DESCRIPTION:Setting Financial Goals for NLLC Finances to be able to present at the Annual Meeting.
URL:https://nllchs.org/event/financial-committee/
LOCATION:Durham Library
END:VEVENT
BEGIN:VEVENT
DTSTART;TZID=America/New_York:20260123T133000
DTEND;TZID=America/New_York:20260123T143000
DTSTAMP:20260423T171733
CREATED:20260123T163432Z
LAST-MODIFIED:20260123T164102Z
UID:5480-1769175000-1769178600@nllchs.org
SUMMARY:Programming Committee: Class & Registration Satisfaction Survey
DESCRIPTION:Help shape a feedback survey about classes being offered this session and how registration went. \nMember input is greatly valued\, help ask the right questions!
URL:https://nllchs.org/event/programming-committee-class-registration-satisfaction-survey/
LOCATION:Durham Library
ORGANIZER;CN="Elena McC":MAILTO:oxideproductions@gmail.com
END:VEVENT
BEGIN:VEVENT
DTSTART;TZID=America/New_York:20260123T123000
DTEND;TZID=America/New_York:20260123T130000
DTSTAMP:20260423T171733
CREATED:20250919T130852Z
LAST-MODIFIED:20260123T162025Z
UID:5182-1769171400-1769173200@nllchs.org
SUMMARY:Board Meeting THIS MEETING TOOK PLACE DURING ORINTATION IN THE BEGGINING OF THE MONTH.
DESCRIPTION:THIS MEETING TOOK PLACE DURING ORINTATION IN THE BEGGINING OF THE MONTH. \nThe NLLC Board will meet to discuss agenda items.  Members are welcome to join.
URL:https://nllchs.org/event/board-meeting-5/
LOCATION:St. Pauls\, 402 N Aurora St\,\, ithaca\, NY\, 14850\, United States
CATEGORIES:Board Meetings
END:VEVENT
BEGIN:VEVENT
DTSTART;TZID=America/New_York:20260123T080000
DTEND;TZID=America/New_York:20260123T170000
DTSTAMP:20260423T171733
CREATED:20260123T165315Z
LAST-MODIFIED:20260123T165315Z
UID:5494-1769155200-1769187600@nllchs.org
SUMMARY:Welcoming & Operations Committee: Spring Orientation Planning
DESCRIPTION:Help plan and execute our Spring Orientation.
URL:https://nllchs.org/event/welcoming-operations-committee-spring-orientation-planning/
LOCATION:Durham Library
END:VEVENT
BEGIN:VEVENT
DTSTART;TZID=America/New_York:20260123T080000
DTEND;TZID=America/New_York:20260123T170000
DTSTAMP:20260423T171733
CREATED:20260123T165137Z
LAST-MODIFIED:20260123T165137Z
UID:5492-1769155200-1769187600@nllchs.org
SUMMARY:Programming Committee: Building The Schedule
DESCRIPTION:Join us to build the schedule! \nWe take all the information that class leaders have given in their class proposals\, and we puzzle it out into a wonderful day for us all.  Help design the ideal day for your kiddo and their friends!
URL:https://nllchs.org/event/programming-committee-building-the-schedule/
LOCATION:Durham Library
ORGANIZER;CN="Elena McC":MAILTO:oxideproductions@gmail.com
END:VEVENT
BEGIN:VEVENT
DTSTART;TZID=America/New_York:20251205T123000
DTEND;TZID=America/New_York:20251205T133000
DTSTAMP:20260423T171733
CREATED:20250919T130717Z
LAST-MODIFIED:20250919T130717Z
UID:5180-1764937800-1764941400@nllchs.org
SUMMARY:Board Meeting
DESCRIPTION:The NLLC Board will meet to discuss agenda items.  Members are welcome to join.
URL:https://nllchs.org/event/board-meeting-4/
LOCATION:St. Pauls\, 402 N Aurora St\,\, ithaca\, NY\, 14850\, United States
CATEGORIES:Board Meetings
END:VEVENT
BEGIN:VEVENT
DTSTART;TZID=America/New_York:20251205T093000
DTEND;TZID=America/New_York:20251205T160000
DTSTAMP:20260423T171733
CREATED:20251108T013023Z
LAST-MODIFIED:20251108T013023Z
UID:5320-1764927000-1764950400@nllchs.org
SUMMARY:Gingerbread House Party
DESCRIPTION:The Social Committee is hosting our second annual Gingerbread House building party on Friday\, Dec. 5 during our final day of the session. Registration is required. Houses and royal frosting are provided. Families are asked to bring a tray or cardboard on which to carry their house & candy/decorations to share.\n\n9:30-10:30 – House assemble with royal frosting\n NLLC classes will share projects/lunch\, schedule TBA\n1:00-3:00 – House decorating party\n3:00-4:00 – Clean up\n\nPlease register for the number of houses your family will require. We are asking a sliding scale from $0-$10/house. Please see attached flyer. Registration link here:\nhttps://nllc.wufoo.com/forms/z1ylhppn0x7kxv2/
URL:https://nllchs.org/event/gingerbread-house-party/
ATTACH;FMTTYPE=image/png:https://nllchs.org/wp-content/uploads/2025/11/House-DecoratingParty-3-scaled.png
END:VEVENT
BEGIN:VEVENT
DTSTART;TZID=America/New_York:20251205T090000
DTEND;TZID=America/New_York:20251205T100000
DTSTAMP:20260423T171733
CREATED:20250905T134755Z
LAST-MODIFIED:20251104T213826Z
UID:5138-1764925200-1764928800@nllchs.org
SUMMARY:Fall Session Culmination & Board Meeting
DESCRIPTION:Fall Session Culmination & Board Meeting
URL:https://nllchs.org/event/fall-session-culmination-board-meeting/
END:VEVENT
BEGIN:VEVENT
DTSTART;TZID=America/New_York:20251101T160000
DTEND;TZID=America/New_York:20251101T200000
DTSTAMP:20260423T171733
CREATED:20250905T165925Z
LAST-MODIFIED:20251014T201205Z
UID:5143-1762012800-1762027200@nllchs.org
SUMMARY:Haunted Lodge 2025
DESCRIPTION:Our Haunted Lodge for homeschool families will be held Saturday\, November 1 from 4-8pm at Camp Comstock’s Main Lodge at 1419 Taughannock Blvd\, Ithaca\, NY 14850. This party is open to all homeschool families and friends. We do have a suggested $5 donation per family to help cover costs of supplies and treats. Party is rain or shine! Dress for the weather! Register to attend below:\n\n\n\nPlease park at the top of the hill and walk down to the main lodge. But be careful! Who knows what awaits you along the way!\n\nThis year\, we have a costume contest with the following categories:\n\n\nBest Homemade Costume\nScariest Costume\nMost Original Costume\nCutest Costume\nGroup Costume\nCrowd Favorite\n\n\nOur Haunted Lodge Party Schedule –\n4-5 pm Fun Halloween arts and crafts\n4-7 pm Outdoor games like light-up ladder ball\, light-up horse shoe\, light-up frisbe\n4-8 pm Potluck – bring a dish and creepy treats to share\n4-8 pm Dance Party – dance with friends and explore the outside and inside of the main lodge to check out all the fun and scary scenes we have set up for your enjoyment\n5-6 pm Organized games\, like potato sack race\, pumpkin sweep\, donut eating contest\, Halloween scavenger hunt\, etc.\n6 pm Costume Runway – strut your stuff\n7 pm Costume awards announced and more dancing till the end!\n\nWhat to bring – a really awesome costume\, dish to share\, a fun treat for the kids after the orchard walk.
URL:https://nllchs.org/event/haunted-lodge-2025/
LOCATION:Camp Comstock Girl Scout Camp\, 1419 Taughannock Blvd.\, Ithaca\, NY\, 14850
CATEGORIES:Events
ATTACH;FMTTYPE=image/jpeg:https://nllchs.org/wp-content/uploads/2025/09/hauntedlodgeposter.jpg
END:VEVENT
BEGIN:VEVENT
DTSTART;TZID=America/New_York:20251024T123000
DTEND;TZID=America/New_York:20251024T133000
DTSTAMP:20260423T171733
CREATED:20250919T130551Z
LAST-MODIFIED:20250919T130551Z
UID:5178-1761309000-1761312600@nllchs.org
SUMMARY:Board Meeting
DESCRIPTION:The NLLC Board will meet to discuss agenda items.  Members are welcome to join. \n 
URL:https://nllchs.org/event/board-meeting-3/
LOCATION:St. Pauls\, 402 N Aurora St\,\, ithaca\, NY\, 14850\, United States
END:VEVENT
BEGIN:VEVENT
DTSTART;TZID=America/New_York:20251008T100000
DTEND;TZID=America/New_York:20251008T120000
DTSTAMP:20260423T171733
CREATED:20250922T130634Z
LAST-MODIFIED:20250922T130634Z
UID:5190-1759917600-1759924800@nllchs.org
SUMMARY:The Great Garbage Adventure
DESCRIPTION:Tour of recycling and waste management center as well as educational component about recycling and waste management. \nWren Kingsley\, from Tompkins County Recycling and Solid Waste Center Point will show us around the facility. This field trip to the recycling and solid waste center will include a classroom learning component as well as a facility tour. Dress for the weather as some parts of the field trip will be outdoors. \nAny age is welcome. And parents are required to stay for the exploration of the recycling and waste management. They may spilt us into two different groups\, by age or to manage size\, if that’s determined to be helpful for the staff. \n  \n 
URL:https://nllchs.org/event/the-great-garbage-adventure/
LOCATION:Tompkins County Recycling and Solid Waste Center Point\, 160 Commerical Drive\, Ithaca\, 14850\, United States
ORGANIZER;CN="Meghan Anderer":MAILTO:meghananderer@gmail.com
END:VEVENT
BEGIN:VEVENT
DTSTART;TZID=America/New_York:20251003T090000
DTEND;TZID=America/New_York:20251003T150000
DTSTAMP:20260423T171733
CREATED:20250905T134406Z
LAST-MODIFIED:20250905T134648Z
UID:5133-1759482000-1759503600@nllchs.org
SUMMARY:NLLC Fall Session Begins
DESCRIPTION:NLLC Fall Session Begins \nNLLC Fall Session runs every Friday from October 3rd to November 21st.
URL:https://nllchs.org/event/nllc-fall-session-begins/
LOCATION:St. Paul’s United Methodist Church\, 402 North Aurora Street\, Ithaca\, New York\, 14850
END:VEVENT
BEGIN:VEVENT
DTSTART;TZID=America/New_York:20250926T123000
DTEND;TZID=America/New_York:20250926T133000
DTSTAMP:20260423T171733
CREATED:20250919T130323Z
LAST-MODIFIED:20250919T130323Z
UID:5175-1758889800-1758893400@nllchs.org
SUMMARY:Board Meeting
DESCRIPTION:The board shall be meeting to discuss agenda items.  All members are welcome to join.
URL:https://nllchs.org/event/board-meeting-2/
LOCATION:St. Pauls\, 402 N Aurora St\,\, ithaca\, NY\, 14850\, United States
CATEGORIES:Board Meetings
ORGANIZER;CN="NLLC Board":MAILTO:nllcboard at googlegroups.com
END:VEVENT
BEGIN:VEVENT
DTSTART;TZID=America/New_York:20250926T090000
DTEND;TZID=America/New_York:20250926T120000
DTSTAMP:20260423T171733
CREATED:20250905T134255Z
LAST-MODIFIED:20250905T135814Z
UID:5131-1758877200-1758888000@nllchs.org
SUMMARY:NLLC Orientation
DESCRIPTION:NLLC Orientation \n 
URL:https://nllchs.org/event/nllc-orientation/
LOCATION:St. Paul’s United Methodist Church\, 402 North Aurora Street\, Ithaca\, New York\, 14850
ORGANIZER;CN="NLLC Board":MAILTO:nllcboard at googlegroups.com
END:VEVENT
BEGIN:VEVENT
DTSTART;VALUE=DATE:20250924
DTEND;VALUE=DATE:20250925
DTSTAMP:20260423T171733
CREATED:20250905T134501Z
LAST-MODIFIED:20250905T134501Z
UID:5135-1758672000-1758758399@nllchs.org
SUMMARY:NLLC Open Registration
DESCRIPTION:NLLC Open Registration
URL:https://nllchs.org/event/nllc-open-registration/
END:VEVENT
BEGIN:VEVENT
DTSTART;TZID=America/New_York:20250825T150000
DTEND;TZID=America/New_York:20250825T160000
DTSTAMP:20260423T171733
CREATED:20250812T155658Z
LAST-MODIFIED:20250813T141239Z
UID:5048-1756134000-1756137600@nllchs.org
SUMMARY:Board Meeting
DESCRIPTION:Reconnect with fellow homeschooling friends and the NLLC board. All friends and family are welcome to join. Curious about NLLC? Come and check us out!
URL:https://nllchs.org/event/board-meeting/
LOCATION:Camp Comstock Girl Scout Camp\, 1419 Taughannock Blvd.\, Ithaca\, NY\, 14850
ORGANIZER;CN="NLLC Board":MAILTO:nllcboard at googlegroups.com
END:VEVENT
BEGIN:VEVENT
DTSTART;TZID=America/New_York:20250825T090000
DTEND;TZID=America/New_York:20250828T190000
DTSTAMP:20260423T171733
CREATED:20250402T141644Z
LAST-MODIFIED:20250521T130623Z
UID:4945-1756112400-1756407600@nllchs.org
SUMMARY:NLLC 2025 Summer Camp
DESCRIPTION:Summer Camp at Camp Comstock. August 25-28.\nAug. 25\, 9am-3pm + overnight camping\nAug. 26-27\, 9am-3pm\nAug. 28\, 9am-7pm\n\n\nWe are so excited to announce that NLLC will hold Summer Day Camp again this year at Camp Comstock Girl Scout Camp\, 1419 Taughannock Blvd. in Ithaca. This year’s day camp will be from 9 am to 3 pm Monday\, August 25th through Thursday\, August 28th and we plan to have many fun activities to do each day\, from nature hikes\, swimming\, art\, storytelling\, building projects and more. \nOn the last day of Summer Camp there will be a potluck from 11:45 to 12:30 and a family team challenge and awards ceremony from 3 – 5 pm Thursday\, August 28th. \nRegistration for 1 to 2 days of day camp is $50 per family and registration for 3 to 4 days of day camp is $100 per family. We can offer this incredible week to you for such accessible pricing because we all work together to make it happen. Our cooperative model invites each participating family to lead an activity (or multiple activities) during the week\, and you will be directed to submit activity titles at registration.  Once the schedule is finalized\, you will have the opportunity to select the activities your child(ren) would like to participate in\, and at that time you will also be directed to select cleaning and other roles that help make the week possible. \nThere is also an optional\, overnight stay at Camp Comstock on Monday night\, August 25th\, for a small additional fee. If your family is interested in the overnight stay\, you can choose to stay overnight in either one of the village unit cabins  for $19 per family or a lean-to/tent spot for $12 per family. We have some fun evening activities planned for our overnight stay and of course we will roast hotdogs and  s’mores over the campfire! \nNLLC is NOT a drop-off program. Every child must have a parent or designated responsible adult on-site during our programs. \nTo register for Summer Camp you have to be a member of the NLLC. Registration is on the member portal.
URL:https://nllchs.org/event/nllc-2025-summer-camp/
LOCATION:Camp Comstock Girl Scout Camp\, 1419 Taughannock Blvd.\, Ithaca\, NY\, 14850
CATEGORIES:Events
ATTACH;FMTTYPE=image/jpeg:https://nllchs.org/wp-content/uploads/2024/01/369669626_292413680205502_6556688758563234019_n-1-scaled-e1705804206392.jpg
ORGANIZER;CN="Marie De Mott Grady and Gini Vidal":MAILTO:gini.vidal@gmail.com
END:VEVENT
BEGIN:VEVENT
DTSTART;TZID=America/New_York:20250725T100000
DTEND;TZID=America/New_York:20250725T130000
DTSTAMP:20260423T171733
CREATED:20250718T160310Z
LAST-MODIFIED:20250718T160310Z
UID:5016-1753437600-1753448400@nllchs.org
SUMMARY:4th Friday Meet-Up\, Potluck\, and Board Meeting
DESCRIPTION:Reconnect with your homeschooling friends at our 4th Friday Meet-Ups. \nAll friends and family are welcome to join.  Curious about NLLC? Come and check us out! \nBring a labeled dish to pass for our Potluck.  Please also remember to bring your own dish\, utensils\, and water bottle. \nJoin for the board-meeting as well.
URL:https://nllchs.org/event/4th-friday-meet-up-potluck-and-board-meeting-2/
LOCATION:Large Cass Park Pavilion\, Turtle Ln\, Ithaca\, NY\, 14850
CATEGORIES:Board Meetings,Events,Meet Ups
ORGANIZER;CN="NLLC Board":MAILTO:nllcboard at googlegroups.com
END:VEVENT
BEGIN:VEVENT
DTSTART;TZID=America/New_York:20250627T100000
DTEND;TZID=America/New_York:20250627T130000
DTSTAMP:20260423T171733
CREATED:20250531T200857Z
LAST-MODIFIED:20250531T200857Z
UID:5013-1751018400-1751029200@nllchs.org
SUMMARY:4th Friday Meet-Up\, Potluck\, and Board meeting
DESCRIPTION:Reconnect with your homeschooling friends at our 4th Friday Meet-Ups. \nAll friends and family are welcome to join.  Curious about NLLC? Come and check us out! \nBring a labeled dish to pass for our Potluck.  Please also remember to bring your own dish\, utensils\, and water bottle. \nJoin for the board-meeting as well.
URL:https://nllchs.org/event/4th-friday-meet-up-potluck-and-board-meeting/
LOCATION:Small Stewart Park pavilion\, 42 Stewart Park\, Ithaca\, NY\, 14850
CATEGORIES:Board Meetings,Events,Meet Ups
END:VEVENT
BEGIN:VEVENT
DTSTART;TZID=America/New_York:20250620T100000
DTEND;TZID=America/New_York:20250620T170000
DTSTAMP:20260423T171733
CREATED:20250402T141440Z
LAST-MODIFIED:20250402T150354Z
UID:4943-1750413600-1750438800@nllchs.org
SUMMARY:Seabreeze Amusement Park
DESCRIPTION:Seabreeze Amusement Park\, Friday\, June 20\, 10am-5pm.
URL:https://nllchs.org/event/seabreeze-amusement-park/
LOCATION:Sea Breeze Amusment\, 4600 Culver Rd\, Rochester\, NY\, 14622
CATEGORIES:Field Trips
ATTACH;FMTTYPE=image/jpeg:https://nllchs.org/wp-content/uploads/2024/05/Jack_Rabbit_04.jpg
END:VEVENT
BEGIN:VEVENT
DTSTART;TZID=America/New_York:20250523T090000
DTEND;TZID=America/New_York:20250523T190000
DTSTAMP:20260423T171733
CREATED:20250402T141324Z
LAST-MODIFIED:20250512T105520Z
UID:4941-1747990800-1748026800@nllchs.org
SUMMARY:Spring Fling (Learning Fair & Talent Show)
DESCRIPTION:Spring Fling (Learning Fair + Talent Show)\, Friday\, May 23\, 9am-7pm at Camp Comstock. Be sure to save posters\, projects\, artwork\, films\, performances to share at the fair.These can be NLLC or non-NLLC works.
URL:https://nllchs.org/event/spring-fling-mayhem-learning-fair-talent-show/
LOCATION:Camp Comstock Girl Scout Camp\, 1419 Taughannock Blvd.\, Ithaca\, NY\, 14850
CATEGORIES:Events
ATTACH;FMTTYPE=image/jpeg:https://nllchs.org/wp-content/uploads/2025/04/Springflingposter-scaled.jpg
END:VEVENT
BEGIN:VEVENT
DTSTART;TZID=America/New_York:20250516T110000
DTEND;TZID=America/New_York:20250516T120000
DTSTAMP:20260423T171733
CREATED:20250402T141103Z
LAST-MODIFIED:20250429T154144Z
UID:4939-1747393200-1747396800@nllchs.org
SUMMARY:Skyzone Field Trip
DESCRIPTION:Skyzone Field Trip\, Fri. May 16 at 11 am
URL:https://nllchs.org/event/skyzone-field-trip/
CATEGORIES:Field Trips
ATTACH;FMTTYPE=image/jpeg:https://nllchs.org/wp-content/uploads/2025/04/20240308_135020_HDR-scaled.jpg
END:VEVENT
END:VCALENDAR